BEGIN:VCALENDAR
VERSION:2.0
PRODID:-//Tukios.com/
BEGIN:VEVENT
UID:ecce7da6-ae58-4d14-8fb0-49a49c5daf76@www.bartlettheritage.com
DTSTAMP:20260423T025720Z
DTSTART:20260509T170000Z
DTEND:20260509T180000Z
SUMMARY:Visitation
DESCRIPTION:
URL:https://www.bartlettheritage.com/obituaries/tracy-mckee-mcintosh
LOCATION: 5809 Stage Rd  Bartlett TN 38134
GEO:35.2038176;-89.8698363
END:VEVENT
END:VCALENDAR