BEGIN:VCALENDAR
VERSION:2.0
PRODID:-//Tukios.com/
BEGIN:VEVENT
UID:8480cd39-c43c-4900-bc65-cd235eac0b2f@www.bartlettheritage.com
DTSTAMP:20260423T025725Z
DTSTART:20260509T180000Z
DTEND:20260509T190000Z
SUMMARY:Memorial Service
DESCRIPTION:
URL:https://www.bartlettheritage.com/obituaries/tracy-mckee-mcintosh
LOCATION: 5809 Stage Rd  Bartlett TN 38134
GEO:35.2038176;-89.8698363
END:VEVENT
END:VCALENDAR